Package: cageminer Version: 1.13.0 Command: /Library/Frameworks/R.framework/Resources/bin/R CMD check --install=check:cageminer.install-out.txt --library=/Library/Frameworks/R.framework/Resources/library --no-vignettes --timings cageminer_1.13.0.tar.gz StartedAt: 2025-02-09 18:22:57 -0500 (Sun, 09 Feb 2025) EndedAt: 2025-02-09 18:25:44 -0500 (Sun, 09 Feb 2025) EllapsedTime: 166.9 seconds RetCode: 0 Status: OK CheckDir: cageminer.Rcheck Warnings: 0