Package: cageminer Version: 1.13.0 Command: /Library/Frameworks/R.framework/Resources/bin/R CMD INSTALL cageminer StartedAt: 2025-02-12 15:41:40 -0500 (Wed, 12 Feb 2025) EndedAt: 2025-02-12 15:42:53 -0500 (Wed, 12 Feb 2025) EllapsedTime: 73.6 seconds RetCode: 0 Status: OK