Package: cageminer Version: 1.13.0 Command: /home/biocbuild/bbs-3.21-bioc/R/bin/R CMD INSTALL cageminer StartedAt: 2025-02-09 15:45:36 -0500 (Sun, 09 Feb 2025) EndedAt: 2025-02-09 15:46:30 -0500 (Sun, 09 Feb 2025) EllapsedTime: 54.9 seconds RetCode: 0 Status: OK