Package: calm Version: 1.21.0 Command: rm -rf calm.buildbin-libdir && mkdir calm.buildbin-libdir && /Users/biocbuild/BBS/utils/build-universal.sh calm_1.21.0.tar.gz /Library/Frameworks/R.framework/Resources/bin/R calm.buildbin-libdir StartedAt: 2025-02-09 22:08:16 -0500 (Sun, 09 Feb 2025) EndedAt: 2025-02-09 22:08:19 -0500 (Sun, 09 Feb 2025) EllapsedTime: 3.1 seconds RetCode: 0 Status: OK PackageFile: calm_1.21.0.tgz PackageFileSize: 428.6 KiB