Package: calm Version: 1.21.0 Command: /home/biocbuild/R/R/bin/R CMD build --keep-empty-dirs --no-resave-data calm StartedAt: 2025-01-28 21:32:18 -0000 (Tue, 28 Jan 2025) EndedAt: 2025-01-28 21:35:25 -0000 (Tue, 28 Jan 2025) EllapsedTime: 187.1 seconds RetCode: 0 Status: OK PackageFile: calm_1.21.0.tar.gz PackageFileSize: 390.3 KiB