Package: calm Version: 1.21.0 Command: /home/biocbuild/R/R/bin/R CMD INSTALL calm StartedAt: 2025-01-29 19:36:01 -0000 (Wed, 29 Jan 2025) EndedAt: 2025-01-29 19:36:21 -0000 (Wed, 29 Jan 2025) EllapsedTime: 20.1 seconds RetCode: 0 Status: OK