Package: calm Version: 1.21.0 Command: /Library/Frameworks/R.framework/Resources/bin/R CMD INSTALL calm StartedAt: 2025-02-09 15:07:52 -0500 (Sun, 09 Feb 2025) EndedAt: 2025-02-09 15:08:22 -0500 (Sun, 09 Feb 2025) EllapsedTime: 30.1 seconds RetCode: 0 Status: OK