Package: calm Version: 1.21.0 Command: /home/biocbuild/bbs-3.21-bioc/R/bin/R CMD check --install=check:calm.install-out.txt --library=/home/biocbuild/bbs-3.21-bioc/R/site-library --timings calm_1.21.0.tar.gz StartedAt: 2025-02-03 20:47:07 -0500 (Mon, 03 Feb 2025) EndedAt: 2025-02-03 20:50:11 -0500 (Mon, 03 Feb 2025) EllapsedTime: 184.2 seconds RetCode: 0 Status: OK CheckDir: calm.Rcheck Warnings: 0