Package: calm Version: 1.21.0 Command: chmod a+r calm -R && E:\biocbuild\bbs-3.21-bioc\R\bin\R.exe CMD build --keep-empty-dirs --no-resave-data calm StartedAt: 2025-02-09 17:38:07 -0500 (Sun, 09 Feb 2025) EndedAt: 2025-02-09 17:41:12 -0500 (Sun, 09 Feb 2025) EllapsedTime: 185.2 seconds RetCode: 0 Status: OK PackageFile: calm_1.21.0.tar.gz PackageFileSize: 387.7 KiB