Package: canceR Version: 1.41.0 Command: rm -rf canceR.buildbin-libdir && mkdir canceR.buildbin-libdir && /Users/biocbuild/BBS/utils/build-universal.sh canceR_1.41.0.tar.gz /Library/Frameworks/R.framework/Resources/bin/R canceR.buildbin-libdir StartedAt: 2025-02-12 22:13:21 -0500 (Wed, 12 Feb 2025) EndedAt: 2025-02-12 22:15:00 -0500 (Wed, 12 Feb 2025) EllapsedTime: 98.9 seconds RetCode: 0 Status: OK PackageFile: canceR_1.41.0.tgz PackageFileSize: 14.92 MiB