Package: canceR Version: 1.41.0 Command: rm -rf canceR.buildbin-libdir && mkdir canceR.buildbin-libdir && /Users/biocbuild/BBS/utils/build-universal.sh canceR_1.41.0.tar.gz /Library/Frameworks/R.framework/Resources/bin/R canceR.buildbin-libdir StartedAt: 2025-02-10 00:45:03 -0500 (Mon, 10 Feb 2025) EndedAt: 2025-02-10 00:47:34 -0500 (Mon, 10 Feb 2025) EllapsedTime: 151.0 seconds RetCode: 0 Status: OK PackageFile: canceR_1.41.0.tgz PackageFileSize: 14.91 MiB