Package: canceR Version: 1.41.0 Command: /Library/Frameworks/R.framework/Resources/bin/R CMD check --install=check:canceR.install-out.txt --library=/Library/Frameworks/R.framework/Resources/library --no-vignettes --timings canceR_1.41.0.tar.gz StartedAt: 2025-02-09 19:34:01 -0500 (Sun, 09 Feb 2025) EndedAt: 2025-02-09 19:44:21 -0500 (Sun, 09 Feb 2025) EllapsedTime: 620.3 seconds RetCode: 0 Status: WARNINGS CheckDir: canceR.Rcheck Warnings: 1