Package: canceR Version: 1.41.0 Command: /home/biocbuild/bbs-3.21-bioc/R/bin/R CMD INSTALL canceR StartedAt: 2025-02-09 15:56:42 -0500 (Sun, 09 Feb 2025) EndedAt: 2025-02-09 15:58:02 -0500 (Sun, 09 Feb 2025) EllapsedTime: 80.0 seconds RetCode: 0 Status: OK