Package: cardelino Version: 1.9.0 Command: /Library/Frameworks/R.framework/Resources/bin/R CMD INSTALL cardelino StartedAt: 2025-02-09 15:22:53 -0500 (Sun, 09 Feb 2025) EndedAt: 2025-02-09 15:23:11 -0500 (Sun, 09 Feb 2025) EllapsedTime: 18.0 seconds RetCode: 0 Status: OK