Package: cardelino Version: 1.9.0 Command: /home/biocbuild/R/R/bin/R CMD build --keep-empty-dirs --no-resave-data cardelino StartedAt: 2025-01-28 21:34:13 -0000 (Tue, 28 Jan 2025) EndedAt: 2025-01-28 21:36:13 -0000 (Tue, 28 Jan 2025) EllapsedTime: 120.0 seconds RetCode: 0 Status: OK PackageFile: cardelino_1.9.0.tar.gz PackageFileSize: 3.212 MiB