Package: cardelino Version: 1.9.0 Command: rm -rf cardelino.buildbin-libdir && mkdir cardelino.buildbin-libdir && /Users/biocbuild/BBS/utils/build-universal.sh cardelino_1.9.0.tar.gz /Library/Frameworks/R.framework/Resources/bin/R cardelino.buildbin-libdir StartedAt: 2025-02-10 00:45:09 -0500 (Mon, 10 Feb 2025) EndedAt: 2025-02-10 00:46:11 -0500 (Mon, 10 Feb 2025) EllapsedTime: 61.3 seconds RetCode: 0 Status: OK PackageFile: cardelino_1.9.0.tgz PackageFileSize: 3.838 MiB