Package: cardelino Version: 1.9.0 Command: /Library/Frameworks/R.framework/Resources/bin/R CMD build --keep-empty-dirs --no-resave-data cardelino StartedAt: 2025-02-09 16:09:52 -0500 (Sun, 09 Feb 2025) EndedAt: 2025-02-09 16:11:13 -0500 (Sun, 09 Feb 2025) EllapsedTime: 80.9 seconds RetCode: 0 Status: OK PackageFile: cardelino_1.9.0.tar.gz PackageFileSize: 3.704 MiB