Package: cardelino Version: 1.9.0 Command: /Library/Frameworks/R.framework/Resources/bin/R CMD check --install=check:cardelino.install-out.txt --library=/Library/Frameworks/R.framework/Resources/library --no-vignettes --timings cardelino_1.9.0.tar.gz StartedAt: 2025-02-09 19:34:25 -0500 (Sun, 09 Feb 2025) EndedAt: 2025-02-09 19:42:11 -0500 (Sun, 09 Feb 2025) EllapsedTime: 466.6 seconds RetCode: 0 Status: OK CheckDir: cardelino.Rcheck Warnings: 0