Package: cardelino Version: 1.9.0 Command: /Library/Frameworks/R.framework/Resources/bin/R CMD INSTALL cardelino StartedAt: 2025-02-09 15:37:01 -0500 (Sun, 09 Feb 2025) EndedAt: 2025-02-09 15:37:59 -0500 (Sun, 09 Feb 2025) EllapsedTime: 58.0 seconds RetCode: 0 Status: OK