Package: cardelino Version: 1.9.0 Command: /home/biocbuild/bbs-3.21-bioc/R/bin/R CMD build --keep-empty-dirs --no-resave-data cardelino StartedAt: 2025-02-09 16:31:25 -0500 (Sun, 09 Feb 2025) EndedAt: 2025-02-09 16:32:46 -0500 (Sun, 09 Feb 2025) EllapsedTime: 81.1 seconds RetCode: 0 Status: OK PackageFile: cardelino_1.9.0.tar.gz PackageFileSize: 3.647 MiB