Package: cardelino Version: 1.9.0 Command: /home/biocbuild/bbs-3.21-bioc/R/bin/R CMD INSTALL cardelino StartedAt: 2025-02-09 15:41:02 -0500 (Sun, 09 Feb 2025) EndedAt: 2025-02-09 15:41:46 -0500 (Sun, 09 Feb 2025) EllapsedTime: 43.8 seconds RetCode: 0 Status: OK