Package: cardelino Version: 1.9.0 Command: chmod a+r cardelino -R && E:\biocbuild\bbs-3.21-bioc\R\bin\R.exe CMD build --keep-empty-dirs --no-resave-data cardelino StartedAt: 2025-02-09 17:39:17 -0500 (Sun, 09 Feb 2025) EndedAt: 2025-02-09 17:41:17 -0500 (Sun, 09 Feb 2025) EllapsedTime: 119.7 seconds RetCode: 0 Status: OK PackageFile: cardelino_1.9.0.tar.gz PackageFileSize: 3.095 MiB