Package: cardelino Version: 1.9.0 Command: E:\biocbuild\bbs-3.21-bioc\R\bin\R.exe CMD check --no-multiarch --install=check:cardelino.install-out.txt --library=E:\biocbuild\bbs-3.21-bioc\R\library --no-vignettes --timings cardelino_1.9.0.tar.gz StartedAt: 2025-02-09 23:20:38 -0500 (Sun, 09 Feb 2025) EndedAt: 2025-02-09 23:29:27 -0500 (Sun, 09 Feb 2025) EllapsedTime: 528.6 seconds RetCode: 0 Status: OK CheckDir: cardelino.Rcheck Warnings: 0