Package: casper Version: 2.41.0 Command: /Library/Frameworks/R.framework/Resources/bin/R CMD build --keep-empty-dirs --no-resave-data casper StartedAt: 2025-02-04 15:47:43 -0500 (Tue, 04 Feb 2025) EndedAt: 2025-02-04 15:48:11 -0500 (Tue, 04 Feb 2025) EllapsedTime: 27.3 seconds RetCode: 1 Status: ERROR PackageFile: None PackageFileSize: NA