Package: casper Version: 2.41.0 Command: /Library/Frameworks/R.framework/Resources/bin/R CMD INSTALL casper StartedAt: 2025-02-09 15:22:06 -0500 (Sun, 09 Feb 2025) EndedAt: 2025-02-09 15:22:30 -0500 (Sun, 09 Feb 2025) EllapsedTime: 24.0 seconds RetCode: 0 Status: OK