Package: casper Version: 2.41.0 Command: /Library/Frameworks/R.framework/Resources/bin/R CMD build --keep-empty-dirs --no-resave-data casper StartedAt: 2025-02-12 16:08:33 -0500 (Wed, 12 Feb 2025) EndedAt: 2025-02-12 16:10:00 -0500 (Wed, 12 Feb 2025) EllapsedTime: 86.9 seconds RetCode: 1 Status: ERROR PackageFile: None PackageFileSize: NA