Package: casper Version: 2.41.0 Command: /home/biocbuild/bbs-3.21-bioc/R/bin/R CMD build --keep-empty-dirs --no-resave-data casper StartedAt: 2025-02-09 16:31:42 -0500 (Sun, 09 Feb 2025) EndedAt: 2025-02-09 16:33:06 -0500 (Sun, 09 Feb 2025) EllapsedTime: 84.1 seconds RetCode: 0 Status: OK PackageFile: casper_2.41.0.tar.gz PackageFileSize: 2.268 MiB