Package: casper Version: 2.41.0 Command: /home/biocbuild/bbs-3.21-bioc/R/bin/R CMD INSTALL casper StartedAt: 2025-02-09 15:40:26 -0500 (Sun, 09 Feb 2025) EndedAt: 2025-02-09 15:41:32 -0500 (Sun, 09 Feb 2025) EllapsedTime: 65.3 seconds RetCode: 0 Status: OK