Package: casper Version: 2.41.0 Command: E:\biocbuild\bbs-3.21-bioc\R\bin\R.exe CMD INSTALL casper StartedAt: 2025-02-09 16:33:06 -0500 (Sun, 09 Feb 2025) EndedAt: 2025-02-09 16:35:06 -0500 (Sun, 09 Feb 2025) EllapsedTime: 119.5 seconds RetCode: 0 Status: OK