Package: categoryCompare Version: 1.51.0 Command: /home/biocbuild/R/R/bin/R CMD build --keep-empty-dirs --no-resave-data categoryCompare StartedAt: 2025-01-28 21:35:24 -0000 (Tue, 28 Jan 2025) EndedAt: 2025-01-28 21:39:24 -0000 (Tue, 28 Jan 2025) EllapsedTime: 240.1 seconds RetCode: 0 Status: OK PackageFile: categoryCompare_1.51.0.tar.gz PackageFileSize: 3.185 MiB