Package: categoryCompare Version: 1.51.0 Command: /home/biocbuild/R/R/bin/R CMD INSTALL categoryCompare StartedAt: 2025-01-29 20:18:26 -0000 (Wed, 29 Jan 2025) EndedAt: 2025-01-29 20:19:04 -0000 (Wed, 29 Jan 2025) EllapsedTime: 38.0 seconds RetCode: 0 Status: OK