Package: cbaf Version: 1.29.0 Command: /Library/Frameworks/R.framework/Resources/bin/R CMD check --install=check:cbaf.install-out.txt --library=/Library/Frameworks/R.framework/Resources/library --no-vignettes --timings cbaf_1.29.0.tar.gz StartedAt: 2025-02-09 18:25:11 -0500 (Sun, 09 Feb 2025) EndedAt: 2025-02-09 18:27:13 -0500 (Sun, 09 Feb 2025) EllapsedTime: 122.5 seconds RetCode: 0 Status: OK CheckDir: cbaf.Rcheck Warnings: 0