Package: cbaf Version: 1.29.0 Command: /home/biocbuild/bbs-3.21-bioc/R/bin/R CMD INSTALL cbaf StartedAt: 2025-02-12 15:43:47 -0500 (Wed, 12 Feb 2025) EndedAt: 2025-02-12 15:44:32 -0500 (Wed, 12 Feb 2025) EllapsedTime: 44.7 seconds RetCode: 0 Status: OK