Package: cbaf Version: 1.29.0 Command: rm -rf cbaf.buildbin-libdir && mkdir cbaf.buildbin-libdir && E:\biocbuild\bbs-3.21-bioc\R\bin\R.exe CMD INSTALL --build --library=cbaf.buildbin-libdir cbaf_1.29.0.tar.gz StartedAt: 2025-02-10 07:23:16 -0500 (Mon, 10 Feb 2025) EndedAt: 2025-02-10 07:24:08 -0500 (Mon, 10 Feb 2025) EllapsedTime: 51.9 seconds RetCode: 0 Status: OK PackageFile: cbaf_1.29.0.zip PackageFileSize: 905.6 KiB