Package: cbaf Version: 1.29.0 Command: chmod a+r cbaf -R && E:\biocbuild\bbs-3.21-bioc\R\bin\R.exe CMD build --keep-empty-dirs --no-resave-data cbaf StartedAt: 2025-02-12 17:43:16 -0500 (Wed, 12 Feb 2025) EndedAt: 2025-02-12 17:45:03 -0500 (Wed, 12 Feb 2025) EllapsedTime: 106.6 seconds RetCode: 0 Status: OK PackageFile: cbaf_1.29.0.tar.gz PackageFileSize: 786 KiB