Package: cbaf Version: 1.29.0 Command: E:\biocbuild\bbs-3.21-bioc\R\bin\R.exe CMD check --no-multiarch --install=check:cbaf.install-out.txt --library=E:\biocbuild\bbs-3.21-bioc\R\library --no-vignettes --timings cbaf_1.29.0.tar.gz StartedAt: 2025-02-12 23:32:29 -0500 (Wed, 12 Feb 2025) EndedAt: 2025-02-12 23:38:31 -0500 (Wed, 12 Feb 2025) EllapsedTime: 361.5 seconds RetCode: 0 Status: OK CheckDir: cbaf.Rcheck Warnings: 0