Package: cbpManager Version: 1.15.0 Command: /Library/Frameworks/R.framework/Resources/bin/R CMD build --keep-empty-dirs --no-resave-data cbpManager StartedAt: 2025-02-03 16:23:02 -0500 (Mon, 03 Feb 2025) EndedAt: 2025-02-03 16:23:08 -0500 (Mon, 03 Feb 2025) EllapsedTime: 6.1 seconds RetCode: 0 Status: OK PackageFile: cbpManager_1.15.0.tar.gz PackageFileSize: 4.64 MiB