Package: cbpManager Version: 1.15.0 Command: /Library/Frameworks/R.framework/Resources/bin/R CMD INSTALL cbpManager StartedAt: 2025-02-03 15:51:52 -0500 (Mon, 03 Feb 2025) EndedAt: 2025-02-03 15:51:56 -0500 (Mon, 03 Feb 2025) EllapsedTime: 4.1 seconds RetCode: 0 Status: OK