Package: cbpManager Version: 1.15.0 Command: /home/biocbuild/R/R/bin/R CMD check --install=check:cbpManager.install-out.txt --library=/home/biocbuild/R/R/site-library --no-vignettes --timings cbpManager_1.15.0.tar.gz StartedAt: 2025-01-28 08:57:25 -0000 (Tue, 28 Jan 2025) EndedAt: 2025-01-28 08:58:40 -0000 (Tue, 28 Jan 2025) EllapsedTime: 75.1 seconds RetCode: 0 Status: WARNINGS CheckDir: cbpManager.Rcheck Warnings: 1