Package: cbpManager Version: 1.15.0 Command: /Library/Frameworks/R.framework/Resources/bin/R CMD build --keep-empty-dirs --no-resave-data cbpManager StartedAt: 2025-02-09 16:11:10 -0500 (Sun, 09 Feb 2025) EndedAt: 2025-02-09 16:11:29 -0500 (Sun, 09 Feb 2025) EllapsedTime: 18.3 seconds RetCode: 0 Status: OK PackageFile: cbpManager_1.15.0.tar.gz PackageFileSize: 4.639 MiB