Package: cbpManager Version: 1.15.0 Command: /Library/Frameworks/R.framework/Resources/bin/R CMD check --install=check:cbpManager.install-out.txt --library=/Library/Frameworks/R.framework/Resources/library --no-vignettes --timings cbpManager_1.15.0.tar.gz StartedAt: 2025-02-09 19:35:45 -0500 (Sun, 09 Feb 2025) EndedAt: 2025-02-09 19:37:07 -0500 (Sun, 09 Feb 2025) EllapsedTime: 81.3 seconds RetCode: 0 Status: WARNINGS CheckDir: cbpManager.Rcheck Warnings: 1