Package: cbpManager Version: 1.15.0 Command: /home/biocbuild/bbs-3.21-bioc/R/bin/R CMD build --keep-empty-dirs --no-resave-data cbpManager StartedAt: 2025-02-09 16:32:41 -0500 (Sun, 09 Feb 2025) EndedAt: 2025-02-09 16:32:53 -0500 (Sun, 09 Feb 2025) EllapsedTime: 12.0 seconds RetCode: 0 Status: OK PackageFile: cbpManager_1.15.0.tar.gz PackageFileSize: 4.639 MiB