Package: cbpManager Version: 1.15.0 Command: /home/biocbuild/bbs-3.21-bioc/R/bin/R CMD INSTALL cbpManager StartedAt: 2025-02-09 15:11:29 -0500 (Sun, 09 Feb 2025) EndedAt: 2025-02-09 15:11:43 -0500 (Sun, 09 Feb 2025) EllapsedTime: 13.3 seconds RetCode: 0 Status: OK