Package: cbpManager Version: 1.15.0 Command: rm -rf cbpManager.buildbin-libdir && mkdir cbpManager.buildbin-libdir && E:\biocbuild\bbs-3.21-bioc\R\bin\R.exe CMD INSTALL --build --library=cbpManager.buildbin-libdir cbpManager_1.15.0.tar.gz StartedAt: 2025-02-10 07:23:19 -0500 (Mon, 10 Feb 2025) EndedAt: 2025-02-10 07:23:58 -0500 (Mon, 10 Feb 2025) EllapsedTime: 38.5 seconds RetCode: 0 Status: OK PackageFile: cbpManager_1.15.0.zip PackageFileSize: 3.855 MiB