Package: cbpManager Version: 1.15.0 Command: chmod a+r cbpManager -R && E:\biocbuild\bbs-3.21-bioc\R\bin\R.exe CMD build --keep-empty-dirs --no-resave-data cbpManager StartedAt: 2025-02-03 17:54:02 -0500 (Mon, 03 Feb 2025) EndedAt: 2025-02-03 17:55:01 -0500 (Mon, 03 Feb 2025) EllapsedTime: 59.2 seconds RetCode: 0 Status: OK PackageFile: cbpManager_1.15.0.tar.gz PackageFileSize: 4.639 MiB