Package: ccmap Version: 1.33.0 Command: /Library/Frameworks/R.framework/Resources/bin/R CMD INSTALL ccmap StartedAt: 2025-02-10 15:12:50 -0500 (Mon, 10 Feb 2025) EndedAt: 2025-02-10 15:13:14 -0500 (Mon, 10 Feb 2025) EllapsedTime: 24.1 seconds RetCode: 0 Status: OK