Package: ccmap Version: 1.33.0 Command: /home/biocbuild/bbs-3.21-bioc/R/bin/R CMD build --keep-empty-dirs --no-resave-data ccmap StartedAt: 2025-02-10 16:41:45 -0500 (Mon, 10 Feb 2025) EndedAt: 2025-02-10 16:42:02 -0500 (Mon, 10 Feb 2025) EllapsedTime: 17.0 seconds RetCode: 1 Status: ERROR PackageFile: None PackageFileSize: NA