Package: ccmap Version: 1.33.0 Command: /home/biocbuild/bbs-3.21-bioc/R/bin/R CMD check --install=check:ccmap.install-out.txt --library=/home/biocbuild/bbs-3.21-bioc/R/site-library --timings ccmap_1.33.0.tar.gz StartedAt: 2025-01-21 20:36:36 -0500 (Tue, 21 Jan 2025) EndedAt: 2025-01-21 20:40:37 -0500 (Tue, 21 Jan 2025) EllapsedTime: 241.4 seconds RetCode: 0 Status: WARNINGS CheckDir: ccmap.Rcheck Warnings: 1