Package: ccmap Version: 1.33.0 Command: /home/biocbuild/bbs-3.21-bioc/R/bin/R CMD INSTALL ccmap StartedAt: 2025-02-10 15:37:10 -0500 (Mon, 10 Feb 2025) EndedAt: 2025-02-10 15:37:27 -0500 (Mon, 10 Feb 2025) EllapsedTime: 16.8 seconds RetCode: 0 Status: OK