Package: ccmap Version: 1.33.0 Command: rm -rf ccmap.buildbin-libdir && mkdir ccmap.buildbin-libdir && E:\biocbuild\bbs-3.21-bioc\R\bin\R.exe CMD INSTALL --build --library=ccmap.buildbin-libdir ccmap_1.33.0.tar.gz StartedAt: 2025-02-11 07:36:46 -0500 (Tue, 11 Feb 2025) EndedAt: 2025-02-11 07:37:06 -0500 (Tue, 11 Feb 2025) EllapsedTime: 20.2 seconds RetCode: 0 Status: OK PackageFile: ccmap_1.33.0.zip PackageFileSize: 425.5 KiB